BEGIN:VCALENDAR
VERSION:2.0
PRODID:-//First Baptist Church Gresham Rd - ECPv6.15.20//NONSGML v1.0//EN
CALSCALE:GREGORIAN
METHOD:PUBLISH
X-ORIGINAL-URL:https://fbcongresham.org
X-WR-CALDESC:Events for First Baptist Church Gresham Rd
REFRESH-INTERVAL;VALUE=DURATION:PT1H
X-Robots-Tag:noindex
X-PUBLISHED-TTL:PT1H
BEGIN:VTIMEZONE
TZID:America/New_York
BEGIN:DAYLIGHT
TZOFFSETFROM:-0500
TZOFFSETTO:-0400
TZNAME:EDT
DTSTART:20240310T070000
END:DAYLIGHT
BEGIN:STANDARD
TZOFFSETFROM:-0400
TZOFFSETTO:-0500
TZNAME:EST
DTSTART:20241103T060000
END:STANDARD
BEGIN:DAYLIGHT
TZOFFSETFROM:-0500
TZOFFSETTO:-0400
TZNAME:EDT
DTSTART:20250309T070000
END:DAYLIGHT
BEGIN:STANDARD
TZOFFSETFROM:-0400
TZOFFSETTO:-0500
TZNAME:EST
DTSTART:20251102T060000
END:STANDARD
BEGIN:DAYLIGHT
TZOFFSETFROM:-0500
TZOFFSETTO:-0400
TZNAME:EDT
DTSTART:20260308T070000
END:DAYLIGHT
BEGIN:STANDARD
TZOFFSETFROM:-0400
TZOFFSETTO:-0500
TZNAME:EST
DTSTART:20261101T060000
END:STANDARD
END:VTIMEZONE
BEGIN:VTIMEZONE
TZID:UTC
BEGIN:STANDARD
TZOFFSETFROM:+0000
TZOFFSETTO:+0000
TZNAME:UTC
DTSTART:20240101T000000
END:STANDARD
END:VTIMEZONE
BEGIN:VEVENT
DTSTART;TZID=America/New_York:20250920T100000
DTEND;TZID=America/New_York:20250920T200000
DTSTAMP:20260424T115458
CREATED:20250715T173640Z
LAST-MODIFIED:20250814T191336Z
UID:41190-1758362400-1758398400@fbcongresham.org
SUMMARY:FBCG CHURCH DIRECTORY PORTRAIT SIGN-UP DAY 4 -- SATURDAY - SEPTEMBER 20\, 2025
DESCRIPTION:The FBCG Deaconess Ministry is hosting a Church Directory Portrait Sitting. The Day 4 Sessions are from 10:00 a.m. – 7:48 p.m. \nPlease scan the QR Code below to review available slots and click on the button to sign up. We ask that you arrive 15 minutes prior to your selected time fully dressed and prepared to complete paperwork. \nFBCG Church Directory Portrait Signup Saturday September 20\, 2025 QR code – 1
URL:https://fbcongresham.org/event/fbcg-church-directory-portrait-signup-saturday-september-20-2025/
LOCATION:First Baptist Church Gresham Rd\, 2394 Gresham Rd\, Atlanta\, GA\, 30316\, United States
END:VEVENT
BEGIN:VEVENT
DTSTART;TZID=America/New_York:20250329T100000
DTEND;TZID=America/New_York:20250329T140000
DTSTAMP:20260424T115458
CREATED:20250309T161131Z
LAST-MODIFIED:20250309T161131Z
UID:40451-1743242400-1743256800@fbcongresham.org
SUMMARY:Saturday Reading Tutorial Prep
DESCRIPTION:Reading Tutorial Preparation for the Georgia Milestone.\nFocus Students 3rd and 5th grade\nFor more info email evettelemon@gmail.com or call 470-502-3632
URL:https://fbcongresham.org/event/saturday-reading-tutorial-prep-3/
LOCATION:First Baptist Church Gresham Rd\, 2394 Gresham Rd\, Atlanta\, GA\, 30316\, United States
ATTACH;FMTTYPE=image/jpeg:https://fbcongresham.org/wp-content/uploads/2024/06/march-for-reading.jpg
END:VEVENT
BEGIN:VEVENT
DTSTART;TZID=America/New_York:20250322T100000
DTEND;TZID=America/New_York:20250322T140000
DTSTAMP:20260424T115458
CREATED:20250309T161010Z
LAST-MODIFIED:20250309T161010Z
UID:40449-1742637600-1742652000@fbcongresham.org
SUMMARY:Saturday Reading Tutorial Prep
DESCRIPTION:Reading Tutorial Preparation for the Georgia Milestone.\nFocus Students 3rd and 5th grade\nFor more info email evettelemon@gmail.com or call 470-502-3632
URL:https://fbcongresham.org/event/saturday-reading-tutorial-prep-2/
LOCATION:First Baptist Church Gresham Rd\, 2394 Gresham Rd\, Atlanta\, GA\, 30316\, United States
ATTACH;FMTTYPE=image/jpeg:https://fbcongresham.org/wp-content/uploads/2024/06/march-for-reading.jpg
END:VEVENT
BEGIN:VEVENT
DTSTART;TZID=UTC:20250315T100000
DTEND;TZID=UTC:20250315T140000
DTSTAMP:20260424T115458
CREATED:20250309T160022Z
LAST-MODIFIED:20250309T160225Z
UID:39884-1742032800-1742047200@fbcongresham.org
SUMMARY:Saturday Reading Tutorial Prep
DESCRIPTION:Reading Tutorial Preparation for the Georgia Milestone.\nFocus Students 3rd and 5th grade\nFor more info email evettelemon@gmail.com or call 470-502-3632
URL:https://fbcongresham.org/event/saturday-reading-tutorial-prep/
LOCATION:First Baptist Church Gresham Rd\, 2394 Gresham Rd\, Atlanta\, GA\, 30316\, United States
ATTACH;FMTTYPE=image/jpeg:https://fbcongresham.org/wp-content/uploads/2024/06/march-for-reading.jpg
END:VEVENT
END:VCALENDAR